BEGIN:VCALENDAR
VERSION:2.0
PRODID:-//Northside Hospital | Careers - ECPv6.15.12.2//NONSGML v1.0//EN
CALSCALE:GREGORIAN
METHOD:PUBLISH
X-ORIGINAL-URL:https://jobs.northside.com
X-WR-CALDESC:Events for Northside Hospital | Careers
REFRESH-INTERVAL;VALUE=DURATION:PT1H
X-Robots-Tag:noindex
X-PUBLISHED-TTL:PT1H
BEGIN:VTIMEZONE
TZID:UTC
BEGIN:STANDARD
TZOFFSETFROM:+0000
TZOFFSETTO:+0000
TZNAME:UTC
DTSTART:20180101T000000
END:STANDARD
END:VTIMEZONE
BEGIN:VEVENT
DTSTART;TZID=UTC:20190626T170000
DTEND;TZID=UTC:20190626T193000
DTSTAMP:20260422T125722
CREATED:20190606T073913Z
LAST-MODIFIED:20190606T073913Z
UID:7565-1561568400-1561577400@jobs.northside.com
SUMMARY:Women’s Health Mix & Mingle Event
DESCRIPTION:Women’s Health Mix & Mingle Event\n\n\n\n\nWomen’s Health Mix & Mingle Event\nEclipse di Luna\n4505 Ashford Dunwoody Rd.\nAtlanta\, GA.\nJune 26\n5:00pm and 7:30pm\n\nMeet with hiring leaders and learn more about exciting growth and new opportunities at Atlanta’s premier women’s hospital. \nRSVP: Spencer.Prince@Northside.com or 404-303-3344 \nThe state-of-the-art Northside Hospital Women’s Network is comprehensive\, focusing on women’s health and wellness in the southeast. Designed to care for a woman throughout her life\, the center offers everything from high-risk perinatal care to breast cancer care. \nOur continued success and growth is creating new opportunities for those who want to launch – or elevate – their careers as health care professionals. That’s why we’re saving YOU a place at our next hiring event. \nJoin us between 5:00pm and 7:30pm June 26 at the fabulous Tapas spot Eclipse di Luna\, 4505 Ashford Dunwoody Rd.\, Atlanta\, GA. \nYou’ll get a chance to meet and mingle with hiring managers and hospital staff. You’ll hear about the exciting growth taking place throughout our health care system and see how it’s creating rewarding career opportunities for you. \nOpportunities available with our Newborn Admission Team\, Labor and Delivery\, High-Risk Perinatal\, Mother Baby\, Lactation\, and NICU. \nYou’ll also learn more about the Northside Hospital benefits package\, which is designed to support the growth of everyone on our team and includes: \n\nAn excellent 403b retirement plan with employer match and pension plan\nFlexibility aimed at promoting work/life balance\nHighly competitive salaries and comprehensive benefits\nTuition reimbursement and loan forgiveness\nIn-state relocation benefits\nFully-funded pension plan\n\nDon’t miss this chance to join Atlanta’s premier women’s hospital. Come and grow with us! \nRSVP to Spencer Prince at 404-303-3344 or at Spencer.Prince@Northside.com
URL:https://jobs.northside.com/event/womens-health-mix-mingle-event/
LOCATION:Eclipse di Luna\, 4505 Ashford Dunwoody Rd\, Atlanta\, GA\, 30342\, United States
CATEGORIES:Allied Events 1
END:VEVENT
BEGIN:VEVENT
DTSTART;TZID=UTC:20190523T090000
DTEND;TZID=UTC:20190523T120000
DTSTAMP:20260422T125722
CREATED:20190513T183205Z
LAST-MODIFIED:20190819T205239Z
UID:7279-1558602000-1558612800@jobs.northside.com
SUMMARY:BMT Experienced RN Internship Interview Days
DESCRIPTION:BMT Experienced RN Internship Interview Days\n\n\n\n\nBMT Experienced RN Internship Interview Days\nNorthside Hospital – Bone Marrow Transplant Unit\n1000 Johnson Ferry Road  \nAtlanta\, GA 30342 United States\nThursday\, May 16th\, 2019 and  Thursday\, May 23rd\, 2019\n9:00am – 12:00pm –>\n\nRegistered Nurses – Join an award winning team – Bone Marrow Transplant at Northside Hospital  \nYour decision to pursue a career in healthcare puts you in position to make a real difference. And now\, you have the chance to create an even more impactful future\, when you transfer your talent to our team.  \nNorthside Hospital invites you to discover everything that’s possible when you join: \n\nOne of the largest\, and continuously expanding\, clinical transplant programs in the U.S.\nA BMT program recognized for achieving among the nation’s best survival rates\nOne of only 2 centers in America to maintain “above expected” outcome levels for nine or more consecutive years\n\nMedical/Surgical\, ICU and Oncology Registered Nurses\, with 2-5 years acute care experience – bring your resume and enjoy a reception with refreshments\, while you meet Northside BMT staff\, recruiter and leadership. \nOnsite offers will be made. \nLearn more about our BMT Experienced RN Internship Program starting 6/10/2019 (includes Chemo certification for all participants)\, as well as the many benefits of joining the Northside Hospital team\, including: \n\nCompetitive compensation\nComprehensive benefits package\, including medical\, dental and vision\nRetirement plan\, including a 403B and pension\nConstant professional growth opportunities\nNationally-recognized BMT program with high-acuity specialty\n\nDiscover for yourself why Northside Hospital is among Comparably and Glassdoor’s Best Places to Work. Reserve your interview spot by connecting with Katie Garrett at Katie.Garrett@northside.com
URL:https://jobs.northside.com/event/bmt-experienced-rn-internship-interview-days-2019-05-23/2019-05-23/
LOCATION:Northside Hospital – Bone Marrow Transplant Unit\, 1000 Johnson Ferry Road\, Atlanta\, GA\, 30342\, United States
CATEGORIES:Nurse Events 2
END:VEVENT
BEGIN:VEVENT
DTSTART;TZID=UTC:20190521T160000
DTEND;TZID=UTC:20190521T190000
DTSTAMP:20260422T125722
CREATED:20190514T033551Z
LAST-MODIFIED:20190514T042757Z
UID:7283-1558454400-1558465200@jobs.northside.com
SUMMARY:Northside Hospital Forsyth Surgical Services Event
DESCRIPTION:Northside Hospital Forsyth Surgical Services Event\n\n\n\n\nNorthside Hospital Forsyth Surgical Services Event\nNorthside Hospital Forsyth\n1200 Northside Hospital Forsyth Drive\nBennett Center\, Building 1400\, Room A\nCumming\, GA 30041\nTuesday\, May 21\, 2019\n4pm – 7pm\n\nOnsite Interviews\, Refreshments & Tours! \nIf you are a Pre-Op\, OR or PACU RN\, Surgical Tech\, Instrument Tech or Clinical Care Associate\, unlock your exceptional side on the Northside Hospital Forsyth team!  \nNorthside Hospital\, renowned for exceptional patient care since 1970\, is growing again and creating opportunities for you to elevate your career! We’re opening a new surgical suite soon and looking for talented professionals like you. \n\nMeet our Surgical Services leadership team and Surgery staff\nTake a tour of our Surgical Services department\nLearn about our competitive compensation packages\nBring your resume and talk directly with our recruiters\n\nOur state-of-the-art Surgical Suite opens this Fall. Join us on May 21st and learn more about the career benefits of growing along with one of the nation’s elite health care teams! \nRSVP: AJ Lee – 404-851-8078 –antwane.lee@northside.com
URL:https://jobs.northside.com/event/northside-hospital-forsyth-surgical-services-event/
LOCATION:Northside Hospital Forsyth\, 1200 Northside Forsyth Drive\, Cumming\, GA\, 30041\, United States
CATEGORIES:Nurse Events 3
END:VEVENT
BEGIN:VEVENT
DTSTART;TZID=UTC:20190516T090000
DTEND;TZID=UTC:20190516T120000
DTSTAMP:20260422T125722
CREATED:20190513T183205Z
LAST-MODIFIED:20190513T183348Z
UID:7275-1557997200-1558008000@jobs.northside.com
SUMMARY:BMT Experienced RN Internship Interview Days
DESCRIPTION:BMT Experienced RN Internship Interview Days\n\n\n\n\nBMT Experienced RN Internship Interview Days\nNorthside Hospital – Bone Marrow Transplant Unit\n1000 Johnson Ferry Road  \nAtlanta\, GA 30342 United States\nThursday\, May 16th\, 2019 and  Thursday\, May 23rd\, 2019\n9:00am – 12:00pm –>\n\nRegistered Nurses – Join an award winning team – Bone Marrow Transplant at Northside Hospital  \nYour decision to pursue a career in healthcare puts you in position to make a real difference. And now\, you have the chance to create an even more impactful future\, when you transfer your talent to our team.  \nNorthside Hospital invites you to discover everything that’s possible when you join: \n\nOne of the largest\, and continuously expanding\, clinical transplant programs in the U.S.\nA BMT program recognized for achieving among the nation’s best survival rates\nOne of only 2 centers in America to maintain “above expected” outcome levels for nine or more consecutive years\n\nMedical/Surgical\, ICU and Oncology Registered Nurses\, with 2-5 years acute care experience – bring your resume and enjoy a reception with refreshments\, while you meet Northside BMT staff\, recruiter and leadership. \nOnsite offers will be made. \nLearn more about our BMT Experienced RN Internship Program starting 6/10/2019 (includes Chemo certification for all participants)\, as well as the many benefits of joining the Northside Hospital team\, including: \n\nCompetitive compensation\nComprehensive benefits package\, including medical\, dental and vision\nRetirement plan\, including a 403B and pension\nConstant professional growth opportunities\nNationally-recognized BMT program with high-acuity specialty\n\nDiscover for yourself why Northside Hospital is among Comparably and Glassdoor’s Best Places to Work. Reserve your interview spot by connecting with Katie Garrett at Katie.Garrett@northside.com
URL:https://jobs.northside.com/event/bmt-experienced-rn-internship-interview-days/
LOCATION:Northside Hospital – Bone Marrow Transplant Unit\, 1000 Johnson Ferry Road\, Atlanta\, GA\, 30342\, United States
CATEGORIES:Nurse Events 2
END:VEVENT
BEGIN:VEVENT
DTSTART;VALUE=DATE:20190516
DTEND;VALUE=DATE:20190517
DTSTAMP:20260422T125722
CREATED:20190513T181132Z
LAST-MODIFIED:20190515T165546Z
UID:7267-1557964800-1558051199@jobs.northside.com
SUMMARY:Surgical Service Professionals - Spring into TRUE Opportunity
DESCRIPTION:Surgical Service Professionals – Spring into TRUE Opportunity\n\n\n\n\nSurgical Service Professionals – Spring into TRUE Opportunity\nNorthside Hospital Cherokee \n450 Northside Cherokee Blvd. \nCanton\, GA 30115 United States\nThursday\, May 16th\, 2019 \n\n\nThe birds are back\, the temperatures are warming and flowers are blooming all over the city. Spring has sprung and our Northside Hospital Cherokee team is delighted to welcome fresh opportunities and new team members. \nOn May 16th\, some of our leaders and staff at Northside Hospital Cherokee are hosting a Surgical Services spring hiring event. We have exciting career opportunities for experienced RNs (Pre Op\, OR and PACU)\, Senior Surgical Techs\, Clinical Supervisors\, Charge Preceptor RNs\, Instrument Techs\, and Clinical Care Associates. \nBring your resume\, get to know our team over food and beverages\, and tour our state-of-the-art Surgical Services department. You’ll have the opportunity to learn more about our career opportunities and our exceptional benefits\, including: \nOn Tuesday\, May 7th\, we’re hosting an RN and RN Leadership Recruitment Event for nurses looking to advance their careers through TRUE\, rewarding opportunities. Join some of our leaders for drinks and appetizers\, tour our facility\, and learn more about our unmatched environment\, including: \n\nHighly competitive compensation packages\nExcellent 403b retirement plan with employer match\nTuition and certification reimbursement\nLoan forgiveness programs\nEmployer funded pension plan\n\n>Discover Northside Hospital Cherokee\, recognized by Comparably and Glassdoor as a Best Place to Work. \nRSVP to Justine.Thompson@northside.com or 404-845-5942.
URL:https://jobs.northside.com/event/surgical-service-professionals-spring-true-opportunity/
LOCATION:Northside Hospital Cherokee\, 450 Northside Cherokee Blvd.\, Canton\, GA\, 30115\, United States
CATEGORIES:Nurse Events,Nurse Events 1
END:VEVENT
BEGIN:VEVENT
DTSTART;TZID=UTC:20190404T080000
DTEND;TZID=UTC:20190404T170000
DTSTAMP:20260422T125722
CREATED:20190305T035544Z
LAST-MODIFIED:20190401T092136Z
UID:1464-1554364800-1554397200@jobs.northside.com
SUMMARY:Northside Hospital – Collector Interview Day
DESCRIPTION:Northside Hospital – Collector Interview Day\n\n\n\n\nNorthside Hospital\n1000 Johnson Ferry Road NE\nAtlanta\, GA 30342 United States\n\nNorthside Hospital is ranked among U.S. News & World Report’s 2018-19 Best Hospitals. We deliver more babies than any other single hospital in the nation and diagnose and treat more cancer cases than any hospital in Georgia. Our team is behind our continued success and growth\, and we’re behind theirs. We’ve been named one of the Best Places to Work by Atlanta Business Chronicle and Glassdoor. We’re looking for full and part-time Collectors to join our expanding team. Collectors are responsible for calling patients and securing payment on their outstanding account balance. Patient account types include 3rd party liability and uninsured patients. Our ideal candidate will have: \n\nAbility to work varying hours between 8:00am – 8:00pm Mon-Thurs and 8am-12pm Fridays and Saturdays\nOne year of experience in collections OR an associate’s degree in business\nStrong negotiation skills\n\nSubmit your resume for Collection opportunities by applying to Collector job #89117. We will be contacting each qualified applicant for a phone conversation prior to scheduling an interview time. Those selected to advance in the process will have the opportunity on Thursday\, February 28th to interview\, tour our facility\, and learn more about our exceptional culture of growth and support.We offer the total package\, including: \n\nHighly competitive compensation package\nBonus program\, based on performance\, for both full and part time collectors\nAffordable options for medical\, dental and vision insurance\nExcellent 403b retirement plan with employer match\nFully funded Pension Plan\nTuition and certification reimbursement\nStudent Loan forgiveness program
URL:https://jobs.northside.com/event/test-2-allied/
LOCATION:1000 Johnson Ferry Road NE\, Atlanta\, GA 30342 United States\, 1000 Johnson Ferry Road NE\, Atlanta\, GA 30342\, GA\, United States
CATEGORIES:Allied Events
END:VEVENT
BEGIN:VEVENT
DTSTART;TZID=UTC:20190312T080000
DTEND;TZID=UTC:20190312T170000
DTSTAMP:20260422T125722
CREATED:20190312T091845Z
LAST-MODIFIED:20190402T044239Z
UID:1761-1552377600-1552410000@jobs.northside.com
SUMMARY:Test 1- Physician MD
DESCRIPTION:Test 1- Physician MD\n\n\n\n\nNorthside Hospital\n1000 Johnson Ferry Road NE\nAtlanta\, GA 30342 United States\n\nNorthside Hospital is ranked among U.S. News & World Report’s 2018-19 Best Hospitals. We deliver more babies than any other single hospital in the nation and diagnose and treat more cancer cases than any hospital in Georgia. Our team is behind our continued success and growth\, and we’re behind theirs. We’ve been named one of the Best Places to Work by Atlanta Business Chronicle and Glassdoor. We’re looking for full and part-time Collectors to join our expanding team. Collectors are responsible for calling patients and securing payment on their outstanding account balance. Patient account types include 3rd party liability and uninsured patients. Our ideal candidate will have: \n\nAbility to work varying hours between 8:00am – 8:00pm Mon-Thurs and 8am-12pm Fridays and Saturdays\nOne year of experience in collections OR an associate’s degree in business\nStrong negotiation skills
URL:https://jobs.northside.com/event/test-1-physician-md/
LOCATION:1000 Johnson Ferry Road NE\, Atlanta\, GA 30342 United States\, 1000 Johnson Ferry Road NE\, Atlanta\, GA 30342\, GA\, United States
CATEGORIES:Physician MD Events
END:VEVENT
END:VCALENDAR