BEGIN:VCALENDAR
VERSION:2.0
PRODID:-//Northside Hospital | Careers - ECPv6.15.12.2//NONSGML v1.0//EN
CALSCALE:GREGORIAN
METHOD:PUBLISH
X-WR-CALNAME:Northside Hospital | Careers
X-ORIGINAL-URL:https://jobs.northside.com
X-WR-CALDESC:Events for Northside Hospital | Careers
REFRESH-INTERVAL;VALUE=DURATION:PT1H
X-Robots-Tag:noindex
X-PUBLISHED-TTL:PT1H
BEGIN:VTIMEZONE
TZID:UTC
BEGIN:STANDARD
TZOFFSETFROM:+0000
TZOFFSETTO:+0000
TZNAME:UTC
DTSTART:20230101T000000
END:STANDARD
END:VTIMEZONE
BEGIN:VEVENT
DTSTART;VALUE=DATE:20240102
DTEND;VALUE=DATE:20240105
DTSTAMP:20260420T202620
CREATED:20231115T201539Z
LAST-MODIFIED:20231206T172545Z
UID:17613-1704153600-1704412799@jobs.northside.com
SUMMARY:Nursing Students\, RSVP for our Extern Excellence Event
DESCRIPTION:NURSE EXTERN EXCELLENCE PROGRAM EVENT\n\n\n\n\n\nFor An Elite Nursing Career\nLook To Northside \nNURSE EXTERN EXCELLENCE PROGRAM EVENT\nTuesday\, January 2 to Thursday\, January 4\, 2024 \nJoin us for an important three-day event that will give you the exclusive opportunity to tour the campus of your choice and meet with nurses and leadership from your specialty areas of interest. This event is open to all current nursing students (including those starting nursing school in Spring 2024). \nEVENT HIGHLIGHTS \n\nProgram Road Map/Overview from our nurse leaders\nQ & A with current nurse externs and nurse residents\nPunchbowl Social Private Reception with current externs\, nurses\, and mentors\nGuaranteed Senior Practicum and Nurse Extern positions\nEarly Nurse Residency offers\nFree parking\, Northside swag and food are also provided!\n\nTHE NORTHSIDE ADVANTAGES \n\nState-of-the-art environment\nCommitment to positive work/life balance\nStrong local/national reputation for excellence\nHighly competitive compensation packages\nPension plan and 403b retirement plan with employer match\nTuition and certification reimbursement\nContinuing education and ongoing growth opportunities\nLoan forgiveness program\nAnd much more!\n\n\nRSVP by Dec. 27th!
URL:https://jobs.northside.com/event/nursing-students-rsvp-for-our-extern-excellence-event/
CATEGORIES:Nurse Events 2
END:VEVENT
END:VCALENDAR