BEGIN:VCALENDAR
VERSION:2.0
PRODID:-//Northside Hospital | Careers - ECPv6.15.12.2//NONSGML v1.0//EN
CALSCALE:GREGORIAN
METHOD:PUBLISH
X-WR-CALNAME:Northside Hospital | Careers
X-ORIGINAL-URL:https://jobs.northside.com
X-WR-CALDESC:Events for Northside Hospital | Careers
REFRESH-INTERVAL;VALUE=DURATION:PT1H
X-Robots-Tag:noindex
X-PUBLISHED-TTL:PT1H
BEGIN:VTIMEZONE
TZID:UTC
BEGIN:STANDARD
TZOFFSETFROM:+0000
TZOFFSETTO:+0000
TZNAME:UTC
DTSTART:20240101T000000
END:STANDARD
END:VTIMEZONE
BEGIN:VEVENT
DTSTART;TZID=UTC:20250915T130000
DTEND;TZID=UTC:20250915T170000
DTSTAMP:20260422T220809
CREATED:20250909T122731Z
LAST-MODIFIED:20250909T122731Z
UID:20163-1757941200-1757955600@jobs.northside.com
SUMMARY:Northside Gwinnett Acute Care RN Residency Hiring Event
DESCRIPTION:Northside Gwinnett Acute Care RN Residency Hiring Event\n\n\n\n\nWhen : SEPTEMBER 15\, 1pm—5pm \n\nYou belong in a friendly\, empowering culture of medical excellence. Register for our Acute Care RN Residency Hiring Event and expand your professional possibilities. We welcome new grads and experienced nurses looking to move into a new specialty. We have Acute Care RN Residency openings available in a variety of specialties: \n·       Acute Medicine \n·       Cardiac Acute \n·       General Surgery \n·       Medical Services \n·       Medical/Telemetry \n·       Neuroscience \n·       Observation \n·       Pulmonary \n·       Rehab \n·       Surgical Short Stay \n·       Surgical/Orthopedics \n·       Surgical/Trauma \n·       And more!\n \nFind where you belong within our award-winning workplace. Enjoy excellent benefits\, culture of work-life harmony and more! \nRegister for the Hiring Event now!
URL:https://jobs.northside.com/event/northside-gwinnett-acute-care-rn-residency-hiring-event/
CATEGORIES:Allied Events,Allied Events 1
END:VEVENT
END:VCALENDAR