BEGIN:VCALENDAR
VERSION:2.0
PRODID:-//Northside Hospital | Careers - ECPv6.15.12.2//NONSGML v1.0//EN
CALSCALE:GREGORIAN
METHOD:PUBLISH
X-WR-CALNAME:Northside Hospital | Careers
X-ORIGINAL-URL:https://jobs.northside.com
X-WR-CALDESC:Events for Northside Hospital | Careers
REFRESH-INTERVAL;VALUE=DURATION:PT1H
X-Robots-Tag:noindex
X-PUBLISHED-TTL:PT1H
BEGIN:VTIMEZONE
TZID:America/New_York
BEGIN:DAYLIGHT
TZOFFSETFROM:-0500
TZOFFSETTO:-0400
TZNAME:EDT
DTSTART:20210314T070000
END:DAYLIGHT
BEGIN:STANDARD
TZOFFSETFROM:-0400
TZOFFSETTO:-0500
TZNAME:EST
DTSTART:20211107T060000
END:STANDARD
BEGIN:DAYLIGHT
TZOFFSETFROM:-0500
TZOFFSETTO:-0400
TZNAME:EDT
DTSTART:20220313T070000
END:DAYLIGHT
BEGIN:STANDARD
TZOFFSETFROM:-0400
TZOFFSETTO:-0500
TZNAME:EST
DTSTART:20221106T060000
END:STANDARD
BEGIN:DAYLIGHT
TZOFFSETFROM:-0500
TZOFFSETTO:-0400
TZNAME:EDT
DTSTART:20230312T070000
END:DAYLIGHT
BEGIN:STANDARD
TZOFFSETFROM:-0400
TZOFFSETTO:-0500
TZNAME:EST
DTSTART:20231105T060000
END:STANDARD
END:VTIMEZONE
BEGIN:VEVENT
DTSTART;TZID=America/New_York:20220607T073000
DTEND;TZID=America/New_York:20220607T103000
DTSTAMP:20260426T033901
CREATED:20220520T134639Z
LAST-MODIFIED:20220524T145501Z
UID:14688-1654587000-1654597800@jobs.northside.com
SUMMARY:Night Shift ED & ICU RN Hiring Event
DESCRIPTION:Night Shift ED & ICU RN Hiring Event\n\n\n\n\n\nSome of our best opportunities come out at night. \nTuesday\, June 7\, 2022 | 7:30am – 10:30am\nCopper Coin\n400 Chambers Street\nWoodstock\, GA 30188 \nWe have immediate Night Shift ED and ICU openings for skilled experienced RNs at our Cherokee campus. We’re seeking both Staff RNs and Supervisors. Join us at this important event! \nRSVP TODAY
URL:https://jobs.northside.com/event/night-shift-ed-icu-rn-hiring-event/
CATEGORIES:Nurse Events 2
END:VEVENT
END:VCALENDAR