BEGIN:VCALENDAR
VERSION:2.0
PRODID:-//Northside Hospital | Careers - ECPv6.15.12.2//NONSGML v1.0//EN
CALSCALE:GREGORIAN
METHOD:PUBLISH
X-WR-CALNAME:Northside Hospital | Careers
X-ORIGINAL-URL:https://jobs.northside.com
X-WR-CALDESC:Events for Northside Hospital | Careers
REFRESH-INTERVAL;VALUE=DURATION:PT1H
X-Robots-Tag:noindex
X-PUBLISHED-TTL:PT1H
BEGIN:VTIMEZONE
TZID:UTC
BEGIN:STANDARD
TZOFFSETFROM:+0000
TZOFFSETTO:+0000
TZNAME:UTC
DTSTART:20220101T000000
END:STANDARD
END:VTIMEZONE
BEGIN:VEVENT
DTSTART;TZID=UTC:20231213T150000
DTEND;TZID=UTC:20231213T190000
DTSTAMP:20260420T103514
CREATED:20231115T095826Z
LAST-MODIFIED:20231115T171226Z
UID:17602-1702479600-1702494000@jobs.northside.com
SUMMARY:Join us for our Physician Practice Hiring Event
DESCRIPTION:Join us for our Physician Practice Hiring Event \n\n\n\n\n\nTO BEGIN A REWARDING CAREER\nLOOK TO NORTHSIDE  \nCareers That Count: Physician Practice Hiring Event\nDecember 13 | 3 – 7 p.m.\nNorthside Gwinnett Resource Center (Maple and Pine Rooms)\n665 Duluth Highway\nLawrenceville\, GA 30046 \nJoin us for our Careers That Count: Physician Practice Hiring Event on Dec. 13! We have roles for Medical Assistants\, Front Office Professionals\, Schedulers\, Billing Professionals\, and more at our Physician Practice Groups in the Gwinnett area.  \nAs part of our team\, enjoy:\nA great work environment\nOpportunities for growth\nGenerous benefits \nWe’re looking forward to meeting you! \n\nRSVP Now!
URL:https://jobs.northside.com/event/join-us-for-our-physician-practice-hiring-event/
CATEGORIES:Nurse Events 1
END:VEVENT
END:VCALENDAR