BEGIN:VCALENDAR
VERSION:2.0
PRODID:-//Northside Hospital | Careers - ECPv6.15.12.2//NONSGML v1.0//EN
CALSCALE:GREGORIAN
METHOD:PUBLISH
X-WR-CALNAME:Northside Hospital | Careers
X-ORIGINAL-URL:https://jobs.northside.com
X-WR-CALDESC:Events for Northside Hospital | Careers
REFRESH-INTERVAL;VALUE=DURATION:PT1H
X-Robots-Tag:noindex
X-PUBLISHED-TTL:PT1H
BEGIN:VTIMEZONE
TZID:UTC
BEGIN:STANDARD
TZOFFSETFROM:+0000
TZOFFSETTO:+0000
TZNAME:UTC
DTSTART:20230101T000000
END:STANDARD
END:VTIMEZONE
BEGIN:VEVENT
DTSTART;TZID=UTC:20240207T163000
DTEND;TZID=UTC:20240207T190000
DTSTAMP:20260421T164949
CREATED:20240122T094008Z
LAST-MODIFIED:20240122T094749Z
UID:17906-1707323400-1707332400@jobs.northside.com
SUMMARY:Join us at our Emergency Services/Cardiology/Critical Care RNs and Techs Hiring Event
DESCRIPTION:Join us at our Emergency Services/Cardiology/Critical Care RNs and Techs Hiring Event\n\n\n\n\n\nTO PROVIDE EXCEPTIONAL HEALTHCARE\nLOOK TO NORTHSIDE \nEmergency Services/Cardiology/Critical Care RNs and Techs Hiring Event\nWednesday\, February 7th | 4:30 – 7:00 p.m.\nUnder The Cork Tree\n5600 Roswell Road NE #2\nSandy Springs\, GA 30342 \nJoin us at our Hiring Event! We have opportunities at our Atlanta location for:\n• RNs for ED and ICU (Nights)\n• RNs for Progressive Cardiac Care (PCCU) (Days & Nights)\n• RNs for Heart Failure Clinic and Cardiac Device Clinic (Days)\n• Nurse Clinicians for ICU (Nights)\n• Clinical Supervisor for PCCU (Days & Nights)\n• Clinical Care Associate (CCA) for ICU (Nights)\n• Monitor Techs for PCCU (Nights)\n• Cardiac Sonographer (Days)\n• Emergency Department Techs (Nights)\n• Nurse Practitioner/Physician Assistant for Heart Failure Clinic (Days) \nBecome part of our premier healthcare system with a workplace culture that empowers excellent work. As part of our team\, enjoy:\n• A great work environment\n• Opportunities for growth\n• Excellent benefits \nInterviews will be conducted and offers made on the spot. We look forward to meeting you! \n\nRSVP Today!
URL:https://jobs.northside.com/event/join-us-at-our-emergency-services-cardiology-critical-care-rns-and-techs-hiring-event/
CATEGORIES:Nurse Events 2
END:VEVENT
END:VCALENDAR