BEGIN:VCALENDAR
VERSION:2.0
PRODID:-//Northside Hospital | Careers - ECPv6.15.12.2//NONSGML v1.0//EN
CALSCALE:GREGORIAN
METHOD:PUBLISH
X-WR-CALNAME:Northside Hospital | Careers
X-ORIGINAL-URL:https://jobs.northside.com
X-WR-CALDESC:Events for Northside Hospital | Careers
REFRESH-INTERVAL;VALUE=DURATION:PT1H
X-Robots-Tag:noindex
X-PUBLISHED-TTL:PT1H
BEGIN:VTIMEZONE
TZID:UTC
BEGIN:STANDARD
TZOFFSETFROM:+0000
TZOFFSETTO:+0000
TZNAME:UTC
DTSTART:20230101T000000
END:STANDARD
END:VTIMEZONE
BEGIN:VEVENT
DTSTART;TZID=UTC:20240207T070000
DTEND;TZID=UTC:20240207T100000
DTSTAMP:20260421T150657
CREATED:20240122T093347Z
LAST-MODIFIED:20240122T094826Z
UID:17901-1707289200-1707300000@jobs.northside.com
SUMMARY:Join us at our Atlanta Coffee and Careers Acute Care Event
DESCRIPTION:Join us at our Atlanta Coffee and Careers Acute Care Event\n\n\n\n\n\nFor greater career variety\nLOOK TO NORTHSIDE \nAtlanta Coffee and Careers Acute Care Event\nWednesday\, February 7th | 7:00 – 10:00 a.m.\nNorthside Interchange Building – Suite 430 A \nJoin us for an exciting Hiring Event where you can discover incredible Acute Care job opportunities! We are thrilled to have the chance to meet you and share all the amazing roles available in Atlanta for:\n• RN Leadership\n• Registered Nurses (RNs)\n• Licensed Practical Nurses (LPNs)\n• Patient Care Technicians (PCTs) \nImagine the incredible learning experience you’ll gain from working with a diverse range of patients. This invaluable experience will undoubtedly shape your career in the most rewarding way. Become a part of our esteemed healthcare system\, where our workplace culture fosters excellence and empowers you to do your best work. As a member of our exceptional team\, you can look forward to:\n• A great work environment\n• Opportunities for growth\n• Excellent benefits \nInterviews will be conducted and offers made on the spot. We look forward to meeting you! \n\nRSVP Today!
URL:https://jobs.northside.com/event/join-us-at-our-atlanta-coffee-and-careers-acute-care-event/
CATEGORIES:Nurse Events 3
END:VEVENT
END:VCALENDAR