BEGIN:VCALENDAR
VERSION:2.0
PRODID:-//Northside Hospital | Careers - ECPv6.15.12.2//NONSGML v1.0//EN
CALSCALE:GREGORIAN
METHOD:PUBLISH
X-WR-CALNAME:Northside Hospital | Careers
X-ORIGINAL-URL:https://jobs.northside.com
X-WR-CALDESC:Events for Northside Hospital | Careers
REFRESH-INTERVAL;VALUE=DURATION:PT1H
X-Robots-Tag:noindex
X-PUBLISHED-TTL:PT1H
BEGIN:VTIMEZONE
TZID:UTC
BEGIN:STANDARD
TZOFFSETFROM:+0000
TZOFFSETTO:+0000
TZNAME:UTC
DTSTART:20220101T000000
END:STANDARD
END:VTIMEZONE
BEGIN:VEVENT
DTSTART;TZID=UTC:20231207T160000
DTEND;TZID=UTC:20231207T190000
DTSTAMP:20260419T220827
CREATED:20231115T092232Z
LAST-MODIFIED:20231115T092232Z
UID:17594-1701964800-1701975600@jobs.northside.com
SUMMARY:Gwinnett Radiology Interview Event
DESCRIPTION:Gwinnett Radiology Interview Event\n\n\n\n\n\nTO JOIN A TEAM DEDICATED TO EXCELLENCE\,\nLOOK TO NORTHSIDE  \nGwinnett Radiology Interview Event\nDecember 7 | 4 p.m. – 7 p.m.\n340 Town Center Ave.\nSuwanee\, GA 30024 \nTechs\, RNs\, Schedulers\, and Tech Assistants\, join us for an Interview Event on December 7th to learn more about roles with Northside. We have opportunities at our Gwinnett\, Lawrenceville\, and Duluth campuses\, and all shifts are available.  \nAs part of our team\, you’ll enjoy:\nA great work environment\nOpportunities for growth\nGenerous benefits \nWe’re looking forward to meeting you!   \n\nRSVP Now!
URL:https://jobs.northside.com/event/gwinnett-radiology-interview-event/
CATEGORIES:Nurse Events 3
END:VEVENT
END:VCALENDAR