BEGIN:VCALENDAR
VERSION:2.0
PRODID:-//Northside Hospital | Careers - ECPv6.15.12.2//NONSGML v1.0//EN
CALSCALE:GREGORIAN
METHOD:PUBLISH
X-WR-CALNAME:Northside Hospital | Careers
X-ORIGINAL-URL:https://jobs.northside.com
X-WR-CALDESC:Events for Northside Hospital | Careers
REFRESH-INTERVAL;VALUE=DURATION:PT1H
X-Robots-Tag:noindex
X-PUBLISHED-TTL:PT1H
BEGIN:VTIMEZONE
TZID:UTC
BEGIN:STANDARD
TZOFFSETFROM:+0000
TZOFFSETTO:+0000
TZNAME:UTC
DTSTART:20220101T000000
END:STANDARD
END:VTIMEZONE
BEGIN:VEVENT
DTSTART;TZID=UTC:20231115T100000
DTEND;TZID=UTC:20231115T140000
DTSTAMP:20260420T033507
CREATED:20231109T192347Z
LAST-MODIFIED:20231109T192347Z
UID:17574-1700042400-1700056800@jobs.northside.com
SUMMARY:Gwinnett Radiology Interview Day
DESCRIPTION:Gwinnett Radiology Interview Day\n\n\n\n\n\nFOR THE OPPORTUNITY TO MAKE A DIFFERENCE\,\nLOOK TO NORTHSIDE \nForsyth Outpatient Rehab Hiring Event\nNovember 15 | 10 a.m. – 2 p.m. \n1755 North Brown Rd.\, Suite 100\nLawrenceville\, GA 30043 \nRNs\, Techs\, and Schedulers\, join us for an Interview Day on November 15th to explore available roles with Northside. We have opportunities at our Gwinnett\, Lawrenceville\, and Duluth campuses\, and all shifts are available. \nAs part of our team\, you’ll enjoy:\nA great work environment\nOpportunities for growth\nGenerous benefits \nWe’re looking forward to meeting you! \n\nApply Now!
URL:https://jobs.northside.com/event/gwinnett-radiology-interview-day/
CATEGORIES:Nurse Events 2
END:VEVENT
END:VCALENDAR