BEGIN:VCALENDAR
VERSION:2.0
PRODID:-//Northside Hospital | Careers - ECPv6.15.12.2//NONSGML v1.0//EN
CALSCALE:GREGORIAN
METHOD:PUBLISH
X-WR-CALNAME:Northside Hospital | Careers
X-ORIGINAL-URL:https://jobs.northside.com
X-WR-CALDESC:Events for Northside Hospital | Careers
REFRESH-INTERVAL;VALUE=DURATION:PT1H
X-Robots-Tag:noindex
X-PUBLISHED-TTL:PT1H
BEGIN:VTIMEZONE
TZID:UTC
BEGIN:STANDARD
TZOFFSETFROM:+0000
TZOFFSETTO:+0000
TZNAME:UTC
DTSTART:20230101T000000
END:STANDARD
END:VTIMEZONE
BEGIN:VEVENT
DTSTART;TZID=UTC:20240718T160000
DTEND;TZID=UTC:20240718T190000
DTSTAMP:20260424T210048
CREATED:20240701T065710Z
LAST-MODIFIED:20240701T065758Z
UID:19026-1721318400-1721329200@jobs.northside.com
SUMMARY:Gwinnett Radiology Hiring Event
DESCRIPTION:Gwinnett Radiology Hiring Event\n\n\n\n\n\nThursday\, July 18th | 4:00 p.m. – 7:00 p.m. \nJoin us at our upcoming Radiology Hiring Event and explore rewarding Radiology roles at our Gwinnett and Duluth locations. Find out how you can cross-train across different modalities and grow as we do. We’ll also have on-the-spot interviews and job offers! \n Learn more about exciting career opportunities with Northside. RSVP today! \n\nRSVP today!
URL:https://jobs.northside.com/event/gwinnett-radiology-hiring-event/
CATEGORIES:Nurse Events 1
END:VEVENT
END:VCALENDAR