BEGIN:VCALENDAR
VERSION:2.0
PRODID:-//Northside Hospital | Careers - ECPv6.15.12.2//NONSGML v1.0//EN
CALSCALE:GREGORIAN
METHOD:PUBLISH
X-WR-CALNAME:Northside Hospital | Careers
X-ORIGINAL-URL:https://jobs.northside.com
X-WR-CALDESC:Events for Northside Hospital | Careers
REFRESH-INTERVAL;VALUE=DURATION:PT1H
X-Robots-Tag:noindex
X-PUBLISHED-TTL:PT1H
BEGIN:VTIMEZONE
TZID:UTC
BEGIN:STANDARD
TZOFFSETFROM:+0000
TZOFFSETTO:+0000
TZNAME:UTC
DTSTART:20250101T000000
END:STANDARD
END:VTIMEZONE
BEGIN:VEVENT
DTSTART;TZID=UTC:20260108T080000
DTEND;TZID=UTC:20260108T120000
DTSTAMP:20260422T162600
CREATED:20251219T112306Z
LAST-MODIFIED:20251219T112450Z
UID:20299-1767859200-1767873600@jobs.northside.com
SUMMARY:Gwinnett Expansion - All Speciality: Radiology\, Respiratory\, Acute Care RNs-Cardiology
DESCRIPTION:Gwinnett Expansion – All Speciality: Radiology\, Respiratory\, Acute Care RNs-Cardiology\n\n\n\n\nExpansion at Northside Gwinnett is creating a wide variety of clinical career opportunities. Come to our Hiring Event and explore these openings: \n When : 1/8/26 8am-12pm EST  \n\nNurse Leadership\nNursing – All areas (ICU\, Cardiac\, Acute Care\, OR\, etc.)\nRadiology\nSocial Work\nInterpreters\nClinical Dietitians\nLab Techs\nHistology Techs\nPharmacists\nPharmacy Techs\nRespiratory Therapists\nCertified CAN\nCRNA/CAA
URL:https://jobs.northside.com/event/gwinnett-expansion-all-speciality-radiology-respiratory-acute-care-rns-cardiology/
CATEGORIES:Allied Events
END:VEVENT
END:VCALENDAR