BEGIN:VCALENDAR
VERSION:2.0
PRODID:-//Northside Hospital | Careers - ECPv6.15.12.2//NONSGML v1.0//EN
CALSCALE:GREGORIAN
METHOD:PUBLISH
X-WR-CALNAME:Northside Hospital | Careers
X-ORIGINAL-URL:https://jobs.northside.com
X-WR-CALDESC:Events for Northside Hospital | Careers
REFRESH-INTERVAL;VALUE=DURATION:PT1H
X-Robots-Tag:noindex
X-PUBLISHED-TTL:PT1H
BEGIN:VTIMEZONE
TZID:UTC
BEGIN:STANDARD
TZOFFSETFROM:+0000
TZOFFSETTO:+0000
TZNAME:UTC
DTSTART:20230101T000000
END:STANDARD
END:VTIMEZONE
BEGIN:VEVENT
DTSTART;TZID=UTC:20240117T130000
DTEND;TZID=UTC:20240117T150000
DTSTAMP:20260421T083714
CREATED:20231220T221433Z
LAST-MODIFIED:20231220T221433Z
UID:17788-1705496400-1705503600@jobs.northside.com
SUMMARY:Food Services Hiring Event
DESCRIPTION:Food Services Hiring Event\n\n\n\n\n\nFOR A MORE SATISFYING CAREER\nLOOK TO NORTHSIDE \nFood Services Hiring Event\nJanuary 17th | 1:00 – 3:00 p.m.\nNorthside Hospital Atlanta – Cafeteria\n1000 Johnson Ferry Road NE\nAtlanta\, Georgia 30342 \nJoin us for a hiring event on Jan. 17th! We have roles\, including entry-level positions\, for food service professionals at our Atlanta location. All shifts are available. Interviews will be conducted and offers made on the spot. \nAs part of our team\, enjoy:\nA great work environment\nOpportunities for growth\nGenerous benefits \nWe’re looking forward to meeting you! \n\nRSVP Now!
URL:https://jobs.northside.com/event/food-services-hiring-event-3/
CATEGORIES:Non-Clinical
END:VEVENT
END:VCALENDAR