BEGIN:VCALENDAR
VERSION:2.0
PRODID:-//Northside Hospital | Careers - ECPv6.15.12.2//NONSGML v1.0//EN
CALSCALE:GREGORIAN
METHOD:PUBLISH
X-WR-CALNAME:Northside Hospital | Careers
X-ORIGINAL-URL:https://jobs.northside.com
X-WR-CALDESC:Events for Northside Hospital | Careers
REFRESH-INTERVAL;VALUE=DURATION:PT1H
X-Robots-Tag:noindex
X-PUBLISHED-TTL:PT1H
BEGIN:VTIMEZONE
TZID:UTC
BEGIN:STANDARD
TZOFFSETFROM:+0000
TZOFFSETTO:+0000
TZNAME:UTC
DTSTART:20230101T000000
END:STANDARD
END:VTIMEZONE
BEGIN:VEVENT
DTSTART;TZID=UTC:20240111T080000
DTEND;TZID=UTC:20240111T120000
DTSTAMP:20260420T202621
CREATED:20231207T195521Z
LAST-MODIFIED:20231207T195521Z
UID:17705-1704960000-1704974400@jobs.northside.com
SUMMARY:All Specialties Hiring Event
DESCRIPTION:All Specialties Hiring Event\n\n\n\n\n\nFOR A NEW CAREER IN THE NEW YEAR\nLOOK TO NORTHSIDE \nAll Specialties Hiring Event\nJanuary 11th | 8 a.m. – 12 p.m. \nGwinnett Tech – Siemans Banquet Hall\n5150 Sugarloaf Parkway\nLawrenceville\, GA 30043 \nJoin us for an All Specialties Hiring Event on January 11th to learn more about roles with Northside. We have clinical and non-clinical opportunities at our Gwinnett and Duluth campuses\, including Staff RNs\, PCTs\, Unit Secretaries\, Sonographers\, Food Services Professionals\, and more. Various shifts are available. \nAs part of our team\, you’ll enjoy: \n\nA great work environment\nOpportunities for growth\nGenerous benefits\n\nInterviews will be conducted and offers made on the spot. We’re looking forward to meeting you! \n\nRSVP Now!
URL:https://jobs.northside.com/event/all-specialties-hiring-event/
CATEGORIES:Nurse Events 2
END:VEVENT
END:VCALENDAR